BEGIN:VCALENDAR
VERSION:2.0
PRODID:-//Never the Less Inc - ECPv6.15.4//NONSGML v1.0//EN
CALSCALE:GREGORIAN
METHOD:PUBLISH
X-ORIGINAL-URL:https://neverthelessinc.com
X-WR-CALDESC:Events for Never the Less Inc
REFRESH-INTERVAL;VALUE=DURATION:PT1H
X-Robots-Tag:noindex
X-PUBLISHED-TTL:PT1H
BEGIN:VTIMEZONE
TZID:America/New_York
BEGIN:DAYLIGHT
TZOFFSETFROM:-0500
TZOFFSETTO:-0400
TZNAME:EDT
DTSTART:20240310T070000
END:DAYLIGHT
BEGIN:STANDARD
TZOFFSETFROM:-0400
TZOFFSETTO:-0500
TZNAME:EST
DTSTART:20241103T060000
END:STANDARD
BEGIN:DAYLIGHT
TZOFFSETFROM:-0500
TZOFFSETTO:-0400
TZNAME:EDT
DTSTART:20250309T070000
END:DAYLIGHT
BEGIN:STANDARD
TZOFFSETFROM:-0400
TZOFFSETTO:-0500
TZNAME:EST
DTSTART:20251102T060000
END:STANDARD
END:VTIMEZONE
BEGIN:VEVENT
DTSTART;VALUE=DATE:20250308
DTEND;VALUE=DATE:20250309
DTSTAMP:20260423T175808
CREATED:20250211T045249Z
LAST-MODIFIED:20250211T045249Z
UID:307547-1741392000-1741478399@neverthelessinc.com
SUMMARY:International Women's Day
DESCRIPTION:A global holiday celebrated annually as a focal point in the women’s rights movement\, bringing attention to issues such as gender equality\, reproductive rights\, and violence and abuse against women.
URL:https://neverthelessinc.com/event/international-womens-day/
LOCATION:Never the Less\, 7612 Reading Rd\, Suite 1010\, Cincinnati\, OH\, 45237\, United States
CATEGORIES:community,culture,sisterhood,womanhood
ATTACH;FMTTYPE=image/png:https://neverthelessinc.com/wp-content/uploads/2024/02/diverse-group-of-women.png
END:VEVENT
BEGIN:VEVENT
DTSTART;TZID=America/New_York:20240831T160000
DTEND;TZID=America/New_York:20240831T200000
DTSTAMP:20260423T175808
CREATED:20240803T190613Z
LAST-MODIFIED:20240804T022144Z
UID:307327-1725120000-1725134400@neverthelessinc.com
SUMMARY:Ugly Shoe Party
DESCRIPTION:Hey Girls! Ready to shine? ✨ Join our exciting Ugly Shoe Party designed just for you! Learn new skills\, meet inspiring mentors\, and connect with amazing friends. Whether you dream of being a leader\, an artist\, or an entrepreneur\, we’re here to help you every step of the way! \n🔹 Fun Workshops 🔹 Creative Activities 🔹 Empowerment Sessions 🔹 Lasting Friendships🔹 Food \nDon’t miss out! Be a part of a supportive community that believes in YOU. Sign up today and take the first step towards a brighter future! \nOur new classes start September 9th\, 2024\nYour cost is time\, commitment\, and a willingness to learn.\nWe have a limited number of spaces available\, so please RSVP as soon as possible. \nWe are also looking for Volunteers or Sponsors for our program. \nRSVP by August 25\, 2024\nClick a button below to call or text RSVP. If you must leave a voice mail or text\, please include your name\, phone number\, and the number of guests so that we may properly prepare for all of the fun. If you are interested in being a volunteer or sponsor please contact us as well.\n			\n				\n				\n				\n				\n				\n				\n				\n					\n				\n					\n				\n				\n				\n				\n				\n				\n				\n					\n				  Call RSVP\n			\n				\n			\n				\n				\n				\n				\n				\n				\n				\n					\n				  Text RSVP
URL:https://neverthelessinc.com/event/ugly-shoe-party/
LOCATION:OH
CATEGORIES:community,sisterhood
ATTACH;FMTTYPE=image/png:https://neverthelessinc.com/wp-content/uploads/2024/08/ugly-shoe-party.png
END:VEVENT
BEGIN:VEVENT
DTSTART;TZID=America/New_York:20240824T100000
DTEND;TZID=America/New_York:20240824T130000
DTSTAMP:20260423T175808
CREATED:20240819T212919Z
LAST-MODIFIED:20240819T214901Z
UID:307383-1724493600-1724504400@neverthelessinc.com
SUMMARY:Stitching of the Bras
DESCRIPTION:A memorial event for Erica J Holloman Foundation\nhttps://neverthelessinc.com/wp-content/uploads/2024/08/burning-candle-light-2023-11-27-05-13-12-utc.mp4\nThis is annual event where hundreds of new bras have been donated and Now we are stitching Smiling for Erica ribbons on them then the bras are giving to Women shelters. Our Girls will help threading and stitching the ribbons. Erica died from Triple Negative Breast Cancer several years ago and her mother start this years ago.
URL:https://neverthelessinc.com/event/stitching-of-the-bras/
LOCATION:Never the Less\, 7612 Reading Rd\, Suite 1010\, Cincinnati\, OH\, 45237\, United States
CATEGORIES:health,sisterhood,womanhood
ATTACH;FMTTYPE=image/jpeg:https://neverthelessinc.com/wp-content/uploads/2024/08/image9.jpeg
END:VEVENT
BEGIN:VEVENT
DTSTART;TZID=America/New_York:20240608T110000
DTEND;TZID=America/New_York:20240608T150000
DTSTAMP:20260423T175808
CREATED:20240511T221419Z
LAST-MODIFIED:20240529T041709Z
UID:306642-1717844400-1717858800@neverthelessinc.com
SUMMARY:Ladies of Valor
DESCRIPTION:KNOW your value! KNOW your worth! \nFree Event \nRegister here Ladies of Valor
URL:https://neverthelessinc.com/event/ladies-of-valor/
LOCATION:United Way\, 2400 Reading Rd\, Cincinnati\, OH\, 45202\, United States
CATEGORIES:community,culture,sisterhood
ATTACH;FMTTYPE=image/jpeg:https://neverthelessinc.com/wp-content/uploads/2024/05/Screenshot_20240517_161629_Gmail.jpg
END:VEVENT
END:VCALENDAR