BEGIN:VCALENDAR
VERSION:2.0
PRODID:-//Never the Less Inc - ECPv6.15.4//NONSGML v1.0//EN
CALSCALE:GREGORIAN
METHOD:PUBLISH
X-WR-CALNAME:Never the Less Inc
X-ORIGINAL-URL:https://neverthelessinc.com
X-WR-CALDESC:Events for Never the Less Inc
REFRESH-INTERVAL;VALUE=DURATION:PT1H
X-Robots-Tag:noindex
X-PUBLISHED-TTL:PT1H
BEGIN:VTIMEZONE
TZID:America/New_York
BEGIN:DAYLIGHT
TZOFFSETFROM:-0500
TZOFFSETTO:-0400
TZNAME:EDT
DTSTART:20240310T070000
END:DAYLIGHT
BEGIN:STANDARD
TZOFFSETFROM:-0400
TZOFFSETTO:-0500
TZNAME:EST
DTSTART:20241103T060000
END:STANDARD
END:VTIMEZONE
BEGIN:VEVENT
DTSTART;TZID=America/New_York:20240613T120000
DTEND;TZID=America/New_York:20240613T160000
DTSTAMP:20260423T180424
CREATED:20240528T233058Z
LAST-MODIFIED:20240531T054913Z
UID:307021-1718280000-1718294400@neverthelessinc.com
SUMMARY:Camp E.V.E.
DESCRIPTION:Camp E.V.E is scheduled\nJune 3\, 2024 to June 27\, 2024\nMonday – Thursday\n12pm – 4pm\nInternship Program\nMondays – Friday\n3 hours per day in July 2024.\nEnroll now for an unforgettable experience! Secure your spot with a $75 enrollment fee (non-refundable) for the eight-week program. Don’t let finances hold you back – scholarships are available.\nCamp E.V.E.\, an 8-week summer enrichment program for girls aged 14-16\, is the perfect opportunity to equip young women with essential career readiness skills that they can apply in the real world. For the first four weeks\, our girls engage in an entrepreneurship class where they unleash their creative potential by developing a product or service.\n			\n				Register Today
URL:https://neverthelessinc.com/event/camp-e-v-e-7/
LOCATION:OH
CATEGORIES:community,education
ATTACH;FMTTYPE=image/jpeg:https://neverthelessinc.com/wp-content/uploads/2024/05/smartmockups_lw43hnk2.jpg
END:VEVENT
BEGIN:VEVENT
DTSTART;TZID=America/New_York:20240612T120000
DTEND;TZID=America/New_York:20240612T160000
DTSTAMP:20260423T180424
CREATED:20240529T025457Z
LAST-MODIFIED:20240531T055531Z
UID:307025-1718193600-1718208000@neverthelessinc.com
SUMMARY:Camp E.V.E.
DESCRIPTION:Camp E.V.E is scheduled\nJune 3\, 2024 to June 27\, 2024\nMonday – Thursday\n12pm – 4pm\nInternship Program\nMondays – Friday\n3 hours per day in July 2024.\nEnroll now for an unforgettable experience! Secure your spot with a $75 enrollment fee (non-refundable) for the eight-week program. Don’t let finances hold you back – scholarships are available.\nCamp E.V.E.\, an 8-week summer enrichment program for girls aged 14-16\, is the perfect opportunity to equip young women with essential career readiness skills that they can apply in the real world. For the first four weeks\, our girls engage in an entrepreneurship class where they unleash their creative potential by developing a product or service.\n			\n				Register Today
URL:https://neverthelessinc.com/event/camp-e-v-e-8/
LOCATION:OH
CATEGORIES:community,education
ATTACH;FMTTYPE=image/jpeg:https://neverthelessinc.com/wp-content/uploads/2024/05/smartmockups_lw43i6d1.jpg
END:VEVENT
BEGIN:VEVENT
DTSTART;TZID=America/New_York:20240611T120000
DTEND;TZID=America/New_York:20240611T160000
DTSTAMP:20260423T180424
CREATED:20240528T230319Z
LAST-MODIFIED:20240531T055758Z
UID:307005-1718107200-1718121600@neverthelessinc.com
SUMMARY:Camp E.V.E.
DESCRIPTION:Camp E.V.E is scheduled\nJune 3\, 2024 to June 27\, 2024\nMonday – Thursday\n12pm – 4pm\nInternship Program\nMondays – Friday\n3 hours per day in July 2024.\nEnroll now for an unforgettable experience! Secure your spot with a $75 enrollment fee (non-refundable) for the eight-week program. Don’t let finances hold you back – scholarships are available.\nCamp E.V.E.\, an 8-week summer enrichment program for girls aged 14-16\, is the perfect opportunity to equip young women with essential career readiness skills that they can apply in the real world. For the first four weeks\, our girls engage in an entrepreneurship class where they unleash their creative potential by developing a product or service.\n			\n				Register Today
URL:https://neverthelessinc.com/event/camp-e-v-e-3/
LOCATION:OH
CATEGORIES:community,education
ATTACH;FMTTYPE=image/jpeg:https://neverthelessinc.com/wp-content/uploads/2024/05/smartmockups_lw43hnk2.jpg
END:VEVENT
BEGIN:VEVENT
DTSTART;TZID=America/New_York:20240610T120000
DTEND;TZID=America/New_York:20240610T160000
DTSTAMP:20260423T180424
CREATED:20240528T230546Z
LAST-MODIFIED:20240531T055932Z
UID:307009-1718020800-1718035200@neverthelessinc.com
SUMMARY:Camp E.V.E
DESCRIPTION:Camp E.V.E is scheduled\nJune 3\, 2024 to June 27\, 2024\nMonday – Thursday\n12pm – 4pm\nInternship Program\nMondays – Friday\n3 hours per day in July 2024.\nEnroll now for an unforgettable experience! Secure your spot with a $75 enrollment fee (non-refundable) for the eight-week program. Don’t let finances hold you back – scholarships are available.\nCamp E.V.E.\, an 8-week summer enrichment program for girls aged 14-16\, is the perfect opportunity to equip young women with essential career readiness skills that they can apply in the real world. For the first four weeks\, our girls engage in an entrepreneurship class where they unleash their creative potential by developing a product or service.\n			\n				Register Today
URL:https://neverthelessinc.com/event/camp-e-v-e-4/
LOCATION:Never the Less\, 7612 Reading Rd\, Suite 1010\, Cincinnati\, OH\, 45237\, United States
CATEGORIES:community,education
ATTACH;FMTTYPE=image/jpeg:https://neverthelessinc.com/wp-content/uploads/2024/05/smartmockups_lw43i6d1.jpg
END:VEVENT
BEGIN:VEVENT
DTSTART;TZID=America/New_York:20240606T173000
DTEND;TZID=America/New_York:20240606T190000
DTSTAMP:20260423T180424
CREATED:20240602T165134Z
LAST-MODIFIED:20240602T175550Z
UID:307136-1717695000-1717700400@neverthelessinc.com
SUMMARY:Spanish and Cultural Exeriences
DESCRIPTION:Empowering Young Minds\n			\n				\n				\n				\n				\n				Learn Spanish\, Embrace Culture\n			\n				\n				\n				\n				\n				Join us in our mission to teach Spanish to young women\, fostering cultural understanding and academic success. In the professional realm\, bilingualism is a highly sought-after skill. Many employers prefer candidates who can speak multiple languages\, and it can lead to better job prospects and higher salaries. \nPlease click the button below to register\n			\n				Get Involved
URL:https://neverthelessinc.com/event/spanish-and-cultural-exeriences/
LOCATION:OH
CATEGORIES:community,culture,education
ATTACH;FMTTYPE=image/png:https://neverthelessinc.com/wp-content/uploads/2024/05/learn-spanish.png
END:VEVENT
BEGIN:VEVENT
DTSTART;TZID=America/New_York:20240606T120000
DTEND;TZID=America/New_York:20240606T160000
DTSTAMP:20260423T180424
CREATED:20240528T230707Z
LAST-MODIFIED:20240529T041550Z
UID:307007-1717675200-1717689600@neverthelessinc.com
SUMMARY:Camp E.V.E.
DESCRIPTION:Camp E.V.E is scheduled\nJune 3\, 2024 to June 27\, 2024\nMonday – Thursday\n12pm – 4pm\nInternship Program\nMondays – Friday\n3 hours per day in July 2024.\nEnroll now for an unforgettable experience! Secure your spot with a $75 enrollment fee (non-refundable) for the eight-week program. Don’t let finances hold you back – scholarships are available.\nCamp E.V.E.\, an 8-week summer enrichment program for girls aged 14-16\, is the perfect opportunity to equip young women with essential career readiness skills that they can apply in the real world. For the first four weeks\, our girls engage in an entrepreneurship class where they unleash their creative potential by developing a product or service.\n			\n				Register Today
URL:https://neverthelessinc.com/event/camp-e-v-e-5/
LOCATION:OH
CATEGORIES:community,education
ATTACH;FMTTYPE=image/jpeg:https://neverthelessinc.com/wp-content/uploads/2024/05/smartmockups_lw43i6d1.jpg
END:VEVENT
BEGIN:VEVENT
DTSTART;TZID=America/New_York:20240605T120000
DTEND;TZID=America/New_York:20240605T160000
DTSTAMP:20260423T180424
CREATED:20240528T231940Z
LAST-MODIFIED:20240529T041437Z
UID:307011-1717588800-1717603200@neverthelessinc.com
SUMMARY:Camp E.V.E
DESCRIPTION:Camp E.V.E is scheduled\nJune 3\, 2024 to June 27\, 2024\nMonday – Thursday\n12pm – 4pm\nInternship Program\nMondays – Friday\n3 hours per day in July 2024.\nEnroll now for an unforgettable experience! Secure your spot with a $75 enrollment fee (non-refundable) for the eight-week program. Don’t let finances hold you back – scholarships are available.\nCamp E.V.E.\, an 8-week summer enrichment program for girls aged 14-16\, is the perfect opportunity to equip young women with essential career readiness skills that they can apply in the real world. For the first four weeks\, our girls engage in an entrepreneurship class where they unleash their creative potential by developing a product or service.\n			\n				Register Today
URL:https://neverthelessinc.com/event/camp-e-v-e-6/
LOCATION:OH
CATEGORIES:community,education
ATTACH;FMTTYPE=image/jpeg:https://neverthelessinc.com/wp-content/uploads/2024/05/smartmockups_lw43i6d1.jpg
END:VEVENT
BEGIN:VEVENT
DTSTART;TZID=America/New_York:20240604T120000
DTEND;TZID=America/New_York:20240604T160000
DTSTAMP:20260423T180424
CREATED:20240528T223950Z
LAST-MODIFIED:20240529T041257Z
UID:307002-1717502400-1717516800@neverthelessinc.com
SUMMARY:Camp E.V.E.
DESCRIPTION:Camp E.V.E is scheduled\nJune 3\, 2024 to June 27\, 2024\nMonday – Thursday\n12pm – 4pm\nInternship Program\nMondays – Friday\n3 hours per day in July 2024.\nEnroll now for an unforgettable experience! Secure your spot with a $75 enrollment fee (non-refundable) for the eight-week program. Don’t let finances hold you back – scholarships are available.\nCamp E.V.E.\, an 8-week summer enrichment program for girls aged 14-16\, is the perfect opportunity to equip young women with essential career readiness skills that they can apply in the real world. For the first four weeks\, our girls engage in an entrepreneurship class where they unleash their creative potential by developing a product or service.\n			\n				Register Today
URL:https://neverthelessinc.com/event/camp-e-v-e-2/
LOCATION:OH
CATEGORIES:community,education
ATTACH;FMTTYPE=image/jpeg:https://neverthelessinc.com/wp-content/uploads/2024/05/smartmockups_lw43i6d1.jpg
END:VEVENT
BEGIN:VEVENT
DTSTART;TZID=America/New_York:20240603T120000
DTEND;TZID=America/New_York:20240603T160000
DTSTAMP:20260423T180424
CREATED:20240528T222957Z
LAST-MODIFIED:20240529T041147Z
UID:306999-1717416000-1717430400@neverthelessinc.com
SUMMARY:Camp E.V.E.
DESCRIPTION:Camp E.V.E is scheduled\nJune 3\, 2024 to June 27\, 2024\nMonday – Thursday\n12pm – 4pm\nInternship Program\nMondays – Friday\n3 hours per day in July 2024.\nEnroll now for an unforgettable experience! Secure your spot with a $75 enrollment fee (non-refundable) for the eight-week program. Don’t let finances hold you back – scholarships are available.\nCamp E.V.E.\, an 8-week summer enrichment program for girls aged 14-16\, is the perfect opportunity to equip young women with essential career readiness skills that they can apply in the real world. For the first four weeks\, our girls engage in an entrepreneurship class where they unleash their creative potential by developing a product or service.\n			\n				Register Today
URL:https://neverthelessinc.com/event/camp-e-v-e/
LOCATION:Never the Less\, 7612 Reading Rd\, Suite 1010\, Cincinnati\, OH\, 45237\, United States
CATEGORIES:culture,education
ATTACH;FMTTYPE=image/jpeg:https://neverthelessinc.com/wp-content/uploads/2024/05/smartmockups_lw43hnk2.jpg
END:VEVENT
BEGIN:VEVENT
DTSTART;TZID=America/New_York:20240314T170000
DTEND;TZID=America/New_York:20240314T190000
DTSTAMP:20260423T180424
CREATED:20240222T041755Z
LAST-MODIFIED:20240222T041755Z
UID:306486-1710435600-1710442800@neverthelessinc.com
SUMMARY:Nutrition and Cooking Classes
DESCRIPTION:Learn basic cooking skills\nLearn how to make healthier food choices\nIncrease physical activity\nHave fun while learning!\n\nThis is a 7-week course
URL:https://neverthelessinc.com/event/nutrition-and-cooking-classes/
LOCATION:Never the Less\, 7612 Reading Rd\, Suite 1010\, Cincinnati\, OH\, 45237\, United States
CATEGORIES:education,health
ATTACH;FMTTYPE=image/jpeg:https://neverthelessinc.com/wp-content/uploads/2024/02/nutrition-and-cooking-classes.jpg
END:VEVENT
END:VCALENDAR